BEGIN:VCALENDAR
VERSION:2.0
PRODID:-//Urnik FRI//urnik.fri.uni-lj.si//
BEGIN:VEVENT
SUMMARY:unknown subject - LV
DTSTART;TZID=Europe/Ljubljana;VALUE=DATE-TIME:20191003T170000
DTEND;TZID=Europe/Ljubljana;VALUE=DATE-TIME:20191003T190000
DTSTAMP;VALUE=DATE-TIME:20260423T185556Z
UID:urnikfri-156592
RRULE:FREQ=WEEKLY;UNTIL=20200118T235959;BYDAY=TH
DESCRIPTION:unknown subject LV @ PR07\nPeter Marijan Kink
LOCATION:PR07
END:VEVENT
BEGIN:VEVENT
SUMMARY:unknown subject - P
DTSTART;TZID=Europe/Ljubljana;VALUE=DATE-TIME:20191007T100000
DTEND;TZID=Europe/Ljubljana;VALUE=DATE-TIME:20191007T130000
DTSTAMP;VALUE=DATE-TIME:20260423T185556Z
UID:urnikfri-156593
RRULE:FREQ=WEEKLY;UNTIL=20200118T235959;BYDAY=MO
DESCRIPTION:unknown subject P @ P02\nAljaž Zalar
LOCATION:P02
END:VEVENT
BEGIN:VEVENT
SUMMARY:unknown subject - P
DTSTART;TZID=Europe/Ljubljana;VALUE=DATE-TIME:20191003T140000
DTEND;TZID=Europe/Ljubljana;VALUE=DATE-TIME:20191003T170000
DTSTAMP;VALUE=DATE-TIME:20260423T185556Z
UID:urnikfri-156797
RRULE:FREQ=WEEKLY;UNTIL=20200118T235959;BYDAY=TH
DESCRIPTION:unknown subject P @ P22\nIgor Rožanc
LOCATION:P22
END:VEVENT
END:VCALENDAR
