BEGIN:VCALENDAR
VERSION:2.0
PRODID:-//Urnik FRI//urnik.fri.uni-lj.si//
BEGIN:VEVENT
SUMMARY:unknown subject - AV
DTSTART;TZID=Europe/Ljubljana;VALUE=DATE-TIME:20191004T110000
DTEND;TZID=Europe/Ljubljana;VALUE=DATE-TIME:20191004T130000
DTSTAMP;VALUE=DATE-TIME:20260424T211247Z
UID:urnikfri-156475
RRULE:FREQ=WEEKLY;UNTIL=20200118T235959;BYDAY=FR
DESCRIPTION:unknown subject AV @ P19\nDamir Franetič
LOCATION:P19
END:VEVENT
BEGIN:VEVENT
SUMMARY:unknown subject - P
DTSTART;TZID=Europe/Ljubljana;VALUE=DATE-TIME:20191002T140000
DTEND;TZID=Europe/Ljubljana;VALUE=DATE-TIME:20191002T170000
DTSTAMP;VALUE=DATE-TIME:20260424T211247Z
UID:urnikfri-156481
RRULE:FREQ=WEEKLY;UNTIL=20200118T235959;BYDAY=WE
DESCRIPTION:unknown subject P @ P01\nAljaž Zalar
LOCATION:P01
END:VEVENT
BEGIN:VEVENT
SUMMARY:unknown subject - P
DTSTART;TZID=Europe/Ljubljana;VALUE=DATE-TIME:20191003T110000
DTEND;TZID=Europe/Ljubljana;VALUE=DATE-TIME:20191003T140000
DTSTAMP;VALUE=DATE-TIME:20260424T211247Z
UID:urnikfri-156510
RRULE:FREQ=WEEKLY;UNTIL=20200118T235959;BYDAY=TH
DESCRIPTION:unknown subject P @ P22\nIztok Lebar Bajec\, Narvika Bovcon
LOCATION:P22
END:VEVENT
END:VCALENDAR
