BEGIN:VCALENDAR
VERSION:2.0
PRODID:-//Urnik FRI//urnik.fri.uni-lj.si//
BEGIN:VEVENT
SUMMARY:unknown subject - LV
DTSTART;TZID=Europe/Ljubljana;VALUE=DATE-TIME:20200220T120000
DTEND;TZID=Europe/Ljubljana;VALUE=DATE-TIME:20200220T140000
DTSTAMP;VALUE=DATE-TIME:20260423T040700Z
UID:urnikfri-157811
RRULE:FREQ=WEEKLY;UNTIL=20200603T235959;BYDAY=TH
DESCRIPTION:unknown subject LV @ PR08\nUroš Čibej
LOCATION:PR08
END:VEVENT
BEGIN:VEVENT
SUMMARY:unknown subject - P
DTSTART;TZID=Europe/Ljubljana;VALUE=DATE-TIME:20200221T130000
DTEND;TZID=Europe/Ljubljana;VALUE=DATE-TIME:20200221T160000
DTSTAMP;VALUE=DATE-TIME:20260423T040700Z
UID:urnikfri-157815
RRULE:FREQ=WEEKLY;UNTIL=20200603T235959;BYDAY=FR
DESCRIPTION:unknown subject P @ P22\nBorut Robič
LOCATION:P22
END:VEVENT
END:VCALENDAR
