BEGIN:VCALENDAR
VERSION:2.0
PRODID:-//Urnik FRI//urnik.fri.uni-lj.si//
BEGIN:VEVENT
SUMMARY:unknown subject - LV
DTSTART;TZID=Europe/Ljubljana;VALUE=DATE-TIME:20200220T140000
DTEND;TZID=Europe/Ljubljana;VALUE=DATE-TIME:20200220T160000
DTSTAMP;VALUE=DATE-TIME:20260424T164813Z
UID:urnikfri-157906
RRULE:FREQ=WEEKLY;UNTIL=20200603T235959;BYDAY=TH
DESCRIPTION:unknown subject LV @ PR06\nTomaž Hovelja
LOCATION:PR06
END:VEVENT
BEGIN:VEVENT
SUMMARY:unknown subject - P
DTSTART;TZID=Europe/Ljubljana;VALUE=DATE-TIME:20200218T150000
DTEND;TZID=Europe/Ljubljana;VALUE=DATE-TIME:20200218T180000
DTSTAMP;VALUE=DATE-TIME:20260424T164813Z
UID:urnikfri-157909
RRULE:FREQ=WEEKLY;UNTIL=20200603T235959;BYDAY=TU
DESCRIPTION:unknown subject P @ P22\nTomaž Hovelja
LOCATION:P22
END:VEVENT
END:VCALENDAR
