BEGIN:VCALENDAR
VERSION:2.0
PRODID:-//Urnik FRI//urnik.fri.uni-lj.si//
BEGIN:VEVENT
SUMMARY:unknown subject - LV
DTSTART;TZID=Europe/Ljubljana;VALUE=DATE-TIME:20200217T080000
DTEND;TZID=Europe/Ljubljana;VALUE=DATE-TIME:20200217T100000
DTSTAMP;VALUE=DATE-TIME:20260426T035353Z
UID:urnikfri-157967
RRULE:FREQ=WEEKLY;UNTIL=20200603T235959;BYDAY=MO
DESCRIPTION:unknown subject LV @ PR09\nKlemen Klanjšček
LOCATION:PR09
END:VEVENT
BEGIN:VEVENT
SUMMARY:unknown subject - LV
DTSTART;TZID=Europe/Ljubljana;VALUE=DATE-TIME:20200219T120000
DTEND;TZID=Europe/Ljubljana;VALUE=DATE-TIME:20200219T140000
DTSTAMP;VALUE=DATE-TIME:20260426T035353Z
UID:urnikfri-157968
RRULE:FREQ=WEEKLY;UNTIL=20200603T235959;BYDAY=WE
DESCRIPTION:unknown subject LV @ P11-FKKT\nPROSTO PROSTO
LOCATION:P11-FKKT
END:VEVENT
BEGIN:VEVENT
SUMMARY:unknown subject - LV
DTSTART;TZID=Europe/Ljubljana;VALUE=DATE-TIME:20200220T140000
DTEND;TZID=Europe/Ljubljana;VALUE=DATE-TIME:20200220T160000
DTSTAMP;VALUE=DATE-TIME:20260426T035353Z
UID:urnikfri-157969
RRULE:FREQ=WEEKLY;UNTIL=20200603T235959;BYDAY=TH
DESCRIPTION:unknown subject LV @ PR15\nPROSTO PROSTO
LOCATION:PR15
END:VEVENT
BEGIN:VEVENT
SUMMARY:unknown subject - LV
DTSTART;TZID=Europe/Ljubljana;VALUE=DATE-TIME:20200221T080000
DTEND;TZID=Europe/Ljubljana;VALUE=DATE-TIME:20200221T100000
DTSTAMP;VALUE=DATE-TIME:20260426T035353Z
UID:urnikfri-157970
RRULE:FREQ=WEEKLY;UNTIL=20200603T235959;BYDAY=FR
DESCRIPTION:unknown subject LV @ P11-FKKT\nKlemen Klanjšček
LOCATION:P11-FKKT
END:VEVENT
BEGIN:VEVENT
SUMMARY:unknown subject - LV
DTSTART;TZID=Europe/Ljubljana;VALUE=DATE-TIME:20200220T120000
DTEND;TZID=Europe/Ljubljana;VALUE=DATE-TIME:20200220T140000
DTSTAMP;VALUE=DATE-TIME:20260426T035353Z
UID:urnikfri-157971
RRULE:FREQ=WEEKLY;UNTIL=20200603T235959;BYDAY=TH
DESCRIPTION:unknown subject LV @ PR05\nKlemen Klanjšček
LOCATION:PR05
END:VEVENT
END:VCALENDAR
