BEGIN:VCALENDAR
VERSION:2.0
PRODID:-//Urnik FRI//urnik.fri.uni-lj.si//
BEGIN:VEVENT
SUMMARY:unknown subject - P
DTSTART;TZID=Europe/Ljubljana;VALUE=DATE-TIME:20181002T080000
DTEND;TZID=Europe/Ljubljana;VALUE=DATE-TIME:20181002T110000
DTSTAMP;VALUE=DATE-TIME:20260421T134336Z
UID:urnikfri-152339
RRULE:FREQ=WEEKLY;UNTIL=20190121T235959;BYDAY=TU
DESCRIPTION:unknown subject P @ P18\nBorut Robič
LOCATION:P18
END:VEVENT
BEGIN:VEVENT
SUMMARY:unknown subject - LV
DTSTART;TZID=Europe/Ljubljana;VALUE=DATE-TIME:20181005T110000
DTEND;TZID=Europe/Ljubljana;VALUE=DATE-TIME:20181005T130000
DTSTAMP;VALUE=DATE-TIME:20260421T134336Z
UID:urnikfri-153157
RRULE:FREQ=WEEKLY;UNTIL=20190121T235959;BYDAY=FR
DESCRIPTION:unknown subject LV @ P11-FKKT\nUroš Čibej
LOCATION:P11-FKKT
END:VEVENT
END:VCALENDAR
