BEGIN:VCALENDAR
VERSION:2.0
PRODID:-//Urnik FRI//urnik.fri.uni-lj.si//
BEGIN:VEVENT
SUMMARY:unknown subject - LV
DTSTART;TZID=Europe/Ljubljana;VALUE=DATE-TIME:20181003T070000
DTEND;TZID=Europe/Ljubljana;VALUE=DATE-TIME:20181003T090000
DTSTAMP;VALUE=DATE-TIME:20260421T054301Z
UID:urnikfri-152724
RRULE:FREQ=WEEKLY;UNTIL=20190121T235959;BYDAY=WE
DESCRIPTION:unknown subject LV @ PR10\nRok Češnovar
LOCATION:PR10
END:VEVENT
BEGIN:VEVENT
SUMMARY:unknown subject - P
DTSTART;TZID=Europe/Ljubljana;VALUE=DATE-TIME:20181005T120000
DTEND;TZID=Europe/Ljubljana;VALUE=DATE-TIME:20181005T150000
DTSTAMP;VALUE=DATE-TIME:20260421T054301Z
UID:urnikfri-152726
RRULE:FREQ=WEEKLY;UNTIL=20190121T235959;BYDAY=FR
DESCRIPTION:unknown subject P @ P02\nPatricio Bulić
LOCATION:P02
END:VEVENT
END:VCALENDAR
