BEGIN:VCALENDAR
VERSION:2.0
PRODID:-//Urnik FRI//urnik.fri.uni-lj.si//
BEGIN:VEVENT
SUMMARY:unknown subject - P
DTSTART;TZID=Europe/Ljubljana;VALUE=DATE-TIME:20181005T080000
DTEND;TZID=Europe/Ljubljana;VALUE=DATE-TIME:20181005T110000
DTSTAMP;VALUE=DATE-TIME:20260424T211459Z
UID:urnikfri-152375
RRULE:FREQ=WEEKLY;UNTIL=20190121T235959;BYDAY=FR
DESCRIPTION:unknown subject P @ P19\nDenis Trček
LOCATION:P19
END:VEVENT
BEGIN:VEVENT
SUMMARY:unknown subject - P
DTSTART;TZID=Europe/Ljubljana;VALUE=DATE-TIME:20181005T120000
DTEND;TZID=Europe/Ljubljana;VALUE=DATE-TIME:20181005T150000
DTSTAMP;VALUE=DATE-TIME:20260424T211459Z
UID:urnikfri-152440
RRULE:FREQ=WEEKLY;UNTIL=20190121T235959;BYDAY=FR
DESCRIPTION:unknown subject P @ P22\nAndrej Brodnik
LOCATION:P22
END:VEVENT
BEGIN:VEVENT
SUMMARY:unknown subject - P
DTSTART;TZID=Europe/Ljubljana;VALUE=DATE-TIME:20181001T090000
DTEND;TZID=Europe/Ljubljana;VALUE=DATE-TIME:20181001T120000
DTSTAMP;VALUE=DATE-TIME:20260424T211459Z
UID:urnikfri-152640
RRULE:FREQ=WEEKLY;UNTIL=20190121T235959;BYDAY=MO
DESCRIPTION:unknown subject P @ P20\nMarko Bajec
LOCATION:P20
END:VEVENT
BEGIN:VEVENT
SUMMARY:unknown subject - P
DTSTART;TZID=Europe/Ljubljana;VALUE=DATE-TIME:20181001T120000
DTEND;TZID=Europe/Ljubljana;VALUE=DATE-TIME:20181001T150000
DTSTAMP;VALUE=DATE-TIME:20260424T211459Z
UID:urnikfri-152680
RRULE:FREQ=WEEKLY;UNTIL=20190121T235959;BYDAY=MO
DESCRIPTION:unknown subject P @ P02\nMatjaž Kukar
LOCATION:P02
END:VEVENT
END:VCALENDAR
