BEGIN:VCALENDAR
VERSION:2.0
PRODID:-//Urnik FRI//urnik.fri.uni-lj.si//
BEGIN:VEVENT
SUMMARY:unknown subject - AV
DTSTART;TZID=Europe/Ljubljana;VALUE=DATE-TIME:20170926T120000
DTEND;TZID=Europe/Ljubljana;VALUE=DATE-TIME:20170926T140000
DTSTAMP;VALUE=DATE-TIME:20260425T034145Z
UID:urnikfri-149470
RRULE:FREQ=WEEKLY;UNTIL=20180119T235959;BYDAY=TU
DESCRIPTION:unknown subject AV @ P18\nJelena Klisara
LOCATION:P18
END:VEVENT
BEGIN:VEVENT
SUMMARY:unknown subject - P
DTSTART;TZID=Europe/Ljubljana;VALUE=DATE-TIME:20170922T080000
DTEND;TZID=Europe/Ljubljana;VALUE=DATE-TIME:20170922T110000
DTSTAMP;VALUE=DATE-TIME:20260425T034145Z
UID:urnikfri-149472
RRULE:FREQ=WEEKLY;UNTIL=20180119T235959;BYDAY=FR
DESCRIPTION:unknown subject P @ PA\nSandi Klavžar
LOCATION:PA
END:VEVENT
BEGIN:VEVENT
SUMMARY:unknown subject - P
DTSTART;TZID=Europe/Ljubljana;VALUE=DATE-TIME:20170927T130000
DTEND;TZID=Europe/Ljubljana;VALUE=DATE-TIME:20170927T160000
DTSTAMP;VALUE=DATE-TIME:20260425T034145Z
UID:urnikfri-149702
RRULE:FREQ=WEEKLY;UNTIL=20180119T235959;BYDAY=WE
DESCRIPTION:unknown subject P @ P01\nJanez Demšar
LOCATION:P01
END:VEVENT
END:VCALENDAR
