BEGIN:VCALENDAR
VERSION:2.0
PRODID:-//Urnik FRI//urnik.fri.uni-lj.si//
BEGIN:VEVENT
SUMMARY:unknown subject - LV
DTSTART;TZID=Europe/Ljubljana;VALUE=DATE-TIME:20170926T090000
DTEND;TZID=Europe/Ljubljana;VALUE=DATE-TIME:20170926T110000
DTSTAMP;VALUE=DATE-TIME:20260424T235310Z
UID:urnikfri-149733
RRULE:FREQ=WEEKLY;UNTIL=20180119T235959;BYDAY=TU
DESCRIPTION:unknown subject LV @ PR10\nCiril Bohak
LOCATION:PR10
END:VEVENT
BEGIN:VEVENT
SUMMARY:unknown subject - P
DTSTART;TZID=Europe/Ljubljana;VALUE=DATE-TIME:20170926T140000
DTEND;TZID=Europe/Ljubljana;VALUE=DATE-TIME:20170926T170000
DTSTAMP;VALUE=DATE-TIME:20260424T235310Z
UID:urnikfri-149738
RRULE:FREQ=WEEKLY;UNTIL=20180119T235959;BYDAY=TU
DESCRIPTION:unknown subject P @ P22\nMatija Marolt
LOCATION:P22
END:VEVENT
END:VCALENDAR
