BEGIN:VCALENDAR
VERSION:2.0
PRODID:-//Urnik FRI//urnik.fri.uni-lj.si//
BEGIN:VEVENT
SUMMARY:unknown subject - P
DTSTART;TZID=Europe/Ljubljana;VALUE=DATE-TIME:20170925T110000
DTEND;TZID=Europe/Ljubljana;VALUE=DATE-TIME:20170925T140000
DTSTAMP;VALUE=DATE-TIME:20260424T222641Z
UID:urnikfri-149638
RRULE:FREQ=WEEKLY;UNTIL=20180119T235959;BYDAY=MO
DESCRIPTION:unknown subject P @ P01\nZoran Bosnić
LOCATION:P01
END:VEVENT
BEGIN:VEVENT
SUMMARY:unknown subject - LV
DTSTART;TZID=Europe/Ljubljana;VALUE=DATE-TIME:20170926T110000
DTEND;TZID=Europe/Ljubljana;VALUE=DATE-TIME:20170926T130000
DTSTAMP;VALUE=DATE-TIME:20260424T222641Z
UID:urnikfri-149662
RRULE:FREQ=WEEKLY;UNTIL=20180119T235959;BYDAY=TU
DESCRIPTION:unknown subject LV @ PR10\nSebastijan Šprager
LOCATION:PR10
END:VEVENT
BEGIN:VEVENT
SUMMARY:unknown subject - P
DTSTART;TZID=Europe/Ljubljana;VALUE=DATE-TIME:20170925T140000
DTEND;TZID=Europe/Ljubljana;VALUE=DATE-TIME:20170925T170000
DTSTAMP;VALUE=DATE-TIME:20260424T222641Z
UID:urnikfri-149665
RRULE:FREQ=WEEKLY;UNTIL=20180119T235959;BYDAY=MO
DESCRIPTION:unknown subject P @ P01\nBranko Matjaž Jurič
LOCATION:P01
END:VEVENT
END:VCALENDAR
