BEGIN:VCALENDAR
VERSION:2.0
PRODID:-//Urnik FRI//urnik.fri.uni-lj.si//
BEGIN:VEVENT
SUMMARY:unknown subject - P
DTSTART;TZID=Europe/Ljubljana;VALUE=DATE-TIME:20170925T090000
DTEND;TZID=Europe/Ljubljana;VALUE=DATE-TIME:20170925T120000
DTSTAMP;VALUE=DATE-TIME:20260422T073352Z
UID:urnikfri-149565
RRULE:FREQ=WEEKLY;UNTIL=20180119T235959;BYDAY=MO
DESCRIPTION:unknown subject P @ P22\nPolona Oblak
LOCATION:P22
END:VEVENT
BEGIN:VEVENT
SUMMARY:unknown subject - P
DTSTART;TZID=Europe/Ljubljana;VALUE=DATE-TIME:20170928T090000
DTEND;TZID=Europe/Ljubljana;VALUE=DATE-TIME:20170928T120000
DTSTAMP;VALUE=DATE-TIME:20260422T073352Z
UID:urnikfri-149712
RRULE:FREQ=WEEKLY;UNTIL=20180119T235959;BYDAY=TH
DESCRIPTION:unknown subject P @ P01\nZoran Bosnić
LOCATION:P01
END:VEVENT
BEGIN:VEVENT
SUMMARY:unknown subject - LV
DTSTART;TZID=Europe/Ljubljana;VALUE=DATE-TIME:20170926T160000
DTEND;TZID=Europe/Ljubljana;VALUE=DATE-TIME:20170926T180000
DTSTAMP;VALUE=DATE-TIME:20260422T073352Z
UID:urnikfri-149745
RRULE:FREQ=WEEKLY;UNTIL=20180119T235959;BYDAY=TU
DESCRIPTION:unknown subject LV @ PR17\nMatej Pičulin
LOCATION:PR17
END:VEVENT
BEGIN:VEVENT
SUMMARY:unknown subject - P
DTSTART;TZID=Europe/Ljubljana;VALUE=DATE-TIME:20170926T080000
DTEND;TZID=Europe/Ljubljana;VALUE=DATE-TIME:20170926T110000
DTSTAMP;VALUE=DATE-TIME:20260422T073352Z
UID:urnikfri-149746
RRULE:FREQ=WEEKLY;UNTIL=20180119T235959;BYDAY=TU
DESCRIPTION:unknown subject P @ P20\nMarko Robnik Šikonja
LOCATION:P20
END:VEVENT
END:VCALENDAR
