BEGIN:VCALENDAR
VERSION:2.0
PRODID:-//Urnik FRI//urnik.fri.uni-lj.si//
BEGIN:VEVENT
SUMMARY:unknown subject - P
DTSTART;TZID=Europe/Ljubljana;VALUE=DATE-TIME:20170926T140000
DTEND;TZID=Europe/Ljubljana;VALUE=DATE-TIME:20170926T170000
DTSTAMP;VALUE=DATE-TIME:20260425T014748Z
UID:urnikfri-149546
RRULE:FREQ=WEEKLY;UNTIL=20180119T235959;BYDAY=TU
DESCRIPTION:unknown subject P @ P01\nAndrej Brodnik
LOCATION:P01
END:VEVENT
BEGIN:VEVENT
SUMMARY:unknown subject - P
DTSTART;TZID=Europe/Ljubljana;VALUE=DATE-TIME:20170928T160000
DTEND;TZID=Europe/Ljubljana;VALUE=DATE-TIME:20170928T190000
DTSTAMP;VALUE=DATE-TIME:20260425T014748Z
UID:urnikfri-149713
RRULE:FREQ=WEEKLY;UNTIL=20180119T235959;BYDAY=TH
DESCRIPTION:unknown subject P @ P22\nFranc Solina
LOCATION:P22
END:VEVENT
BEGIN:VEVENT
SUMMARY:unknown subject - LV
DTSTART;TZID=Europe/Ljubljana;VALUE=DATE-TIME:20170926T100000
DTEND;TZID=Europe/Ljubljana;VALUE=DATE-TIME:20170926T120000
DTSTAMP;VALUE=DATE-TIME:20260425T014748Z
UID:urnikfri-150480
RRULE:FREQ=WEEKLY;UNTIL=20180119T235959;BYDAY=TU
DESCRIPTION:unknown subject LV @ PR06\nGašper Fele Žorž
LOCATION:PR06
END:VEVENT
END:VCALENDAR
