BEGIN:VCALENDAR
VERSION:2.0
PRODID:-//Urnik FRI//urnik.fri.uni-lj.si//
BEGIN:VEVENT
SUMMARY:unknown subject - P
DTSTART;TZID=Europe/Ljubljana;VALUE=DATE-TIME:20170927T110000
DTEND;TZID=Europe/Ljubljana;VALUE=DATE-TIME:20170927T140000
DTSTAMP;VALUE=DATE-TIME:20260424T191612Z
UID:urnikfri-149465
RRULE:FREQ=WEEKLY;UNTIL=20180119T235959;BYDAY=WE
DESCRIPTION:unknown subject P @ PA\nGašper Fijavž
LOCATION:PA
END:VEVENT
BEGIN:VEVENT
SUMMARY:unknown subject - P
DTSTART;TZID=Europe/Ljubljana;VALUE=DATE-TIME:20170922T080000
DTEND;TZID=Europe/Ljubljana;VALUE=DATE-TIME:20170922T110000
DTSTAMP;VALUE=DATE-TIME:20260424T191612Z
UID:urnikfri-149472
RRULE:FREQ=WEEKLY;UNTIL=20180119T235959;BYDAY=FR
DESCRIPTION:unknown subject P @ PA\nSandi Klavžar
LOCATION:PA
END:VEVENT
BEGIN:VEVENT
SUMMARY:unknown subject - P
DTSTART;TZID=Europe/Ljubljana;VALUE=DATE-TIME:20170927T080000
DTEND;TZID=Europe/Ljubljana;VALUE=DATE-TIME:20170927T110000
DTSTAMP;VALUE=DATE-TIME:20260424T191612Z
UID:urnikfri-149537
RRULE:FREQ=WEEKLY;UNTIL=20180119T235959;BYDAY=WE
DESCRIPTION:unknown subject P @ PA\nBorut Robič
LOCATION:PA
END:VEVENT
BEGIN:VEVENT
SUMMARY:unknown subject - P
DTSTART;TZID=Europe/Ljubljana;VALUE=DATE-TIME:20170928T080000
DTEND;TZID=Europe/Ljubljana;VALUE=DATE-TIME:20170928T110000
DTSTAMP;VALUE=DATE-TIME:20260424T191612Z
UID:urnikfri-149609
RRULE:FREQ=WEEKLY;UNTIL=20180119T235959;BYDAY=TH
DESCRIPTION:unknown subject P @ PA\nNikolaj Zimic
LOCATION:PA
END:VEVENT
BEGIN:VEVENT
SUMMARY:unknown subject - P
DTSTART;TZID=Europe/Ljubljana;VALUE=DATE-TIME:20170927T140000
DTEND;TZID=Europe/Ljubljana;VALUE=DATE-TIME:20170927T170000
DTSTAMP;VALUE=DATE-TIME:20260424T191612Z
UID:urnikfri-149618
RRULE:FREQ=WEEKLY;UNTIL=20180119T235959;BYDAY=WE
DESCRIPTION:unknown subject P @ PA\nNeža Mramor-Kosta
LOCATION:PA
END:VEVENT
BEGIN:VEVENT
SUMMARY:unknown subject - P
DTSTART;TZID=Europe/Ljubljana;VALUE=DATE-TIME:20170928T110000
DTEND;TZID=Europe/Ljubljana;VALUE=DATE-TIME:20170928T140000
DTSTAMP;VALUE=DATE-TIME:20260424T191612Z
UID:urnikfri-149627
RRULE:FREQ=WEEKLY;UNTIL=20180119T235959;BYDAY=TH
DESCRIPTION:unknown subject P @ PA\nMarko Bajec
LOCATION:PA
END:VEVENT
BEGIN:VEVENT
SUMMARY:unknown subject - P
DTSTART;TZID=Europe/Ljubljana;VALUE=DATE-TIME:20170928T140000
DTEND;TZID=Europe/Ljubljana;VALUE=DATE-TIME:20170928T170000
DTSTAMP;VALUE=DATE-TIME:20260424T191613Z
UID:urnikfri-149689
RRULE:FREQ=WEEKLY;UNTIL=20180119T235959;BYDAY=TH
DESCRIPTION:unknown subject P @ PA\nViljan Mahnič
LOCATION:PA
END:VEVENT
BEGIN:VEVENT
SUMMARY:unknown subject - P
DTSTART;TZID=Europe/Ljubljana;VALUE=DATE-TIME:20170922T110000
DTEND;TZID=Europe/Ljubljana;VALUE=DATE-TIME:20170922T140000
DTSTAMP;VALUE=DATE-TIME:20260424T191613Z
UID:urnikfri-149829
RRULE:FREQ=WEEKLY;UNTIL=20180119T235959;BYDAY=FR
DESCRIPTION:unknown subject P @ PA\nMira Trebar
LOCATION:PA
END:VEVENT
END:VCALENDAR
