BEGIN:VCALENDAR
VERSION:2.0
PRODID:-//Urnik FRI//urnik.fri.uni-lj.si//
BEGIN:VEVENT
SUMMARY:unknown subject - LV
DTSTART;TZID=Europe/Ljubljana;VALUE=DATE-TIME:20170927T150000
DTEND;TZID=Europe/Ljubljana;VALUE=DATE-TIME:20170927T170000
DTSTAMP;VALUE=DATE-TIME:20260421T025755Z
UID:urnikfri-149456
RRULE:FREQ=WEEKLY;UNTIL=20180119T235959;BYDAY=WE
DESCRIPTION:unknown subject LV @ PR14\nSebastijan Šprager
LOCATION:PR14
END:VEVENT
BEGIN:VEVENT
SUMMARY:unknown subject - LV
DTSTART;TZID=Europe/Ljubljana;VALUE=DATE-TIME:20170927T100000
DTEND;TZID=Europe/Ljubljana;VALUE=DATE-TIME:20170927T120000
DTSTAMP;VALUE=DATE-TIME:20260421T025755Z
UID:urnikfri-149457
RRULE:FREQ=WEEKLY;UNTIL=20180119T235959;BYDAY=WE
DESCRIPTION:unknown subject LV @ PR11\nSebastijan Šprager
LOCATION:PR11
END:VEVENT
END:VCALENDAR
