BEGIN:VCALENDAR
VERSION:2.0
PRODID:-//Urnik FRI//urnik.fri.uni-lj.si//
BEGIN:VEVENT
SUMMARY:unknown subject - LV
DTSTART;TZID=Europe/Ljubljana;VALUE=DATE-TIME:20170926T160000
DTEND;TZID=Europe/Ljubljana;VALUE=DATE-TIME:20170926T180000
DTSTAMP;VALUE=DATE-TIME:20260419T202216Z
UID:urnikfri-149745
RRULE:FREQ=WEEKLY;UNTIL=20180119T235959;BYDAY=TU
DESCRIPTION:unknown subject LV @ PR17\nMatej Pičulin
LOCATION:PR17
END:VEVENT
END:VCALENDAR
