BEGIN:VCALENDAR
VERSION:2.0
PRODID:-//Urnik FRI//urnik.fri.uni-lj.si//
BEGIN:VEVENT
SUMMARY:unknown subject - AV
DTSTART;TZID=Europe/Ljubljana;VALUE=DATE-TIME:20170223T170000
DTEND;TZID=Europe/Ljubljana;VALUE=DATE-TIME:20170223T190000
DTSTAMP;VALUE=DATE-TIME:20260419T205247Z
UID:urnikfri-148166
RRULE:FREQ=WEEKLY;UNTIL=20170609T235959;BYDAY=TH
DESCRIPTION:unknown subject AV @ P02\nTomaž Hovelja
LOCATION:P02
END:VEVENT
END:VCALENDAR
